Workbook

Sheet CARATULA
B2: ESTADOS FINANCIEROS CONSOLIDADO CADIEM CASA DE BOLSA S.A. s/ Res. N° 06/2019

Sheet ÍNDICE
B2: INDICE
B4: INFORMACIÓN GENERAL DE LA ENTIDAD | C4: 01
B5: BALANCE GENERAL | C5: 02
B6: ESTADO DE RESULTADO | C6: 03
B7: FLUJO DE EFECTIVO | C7: 04
B8: EVOLUCIÓN DEL PATRIMONIO NETO | C8: 05
B9: NOTAS A LOS ESTADOS CONTABLES (NOTA 1 a NOTA 4) | C9: 06
B10: NOTAS A LOS ESTADOS CONTABLES NOTA 5 (INCISO A a I) | C10: 07
B11: NOTAS A LOS ESTADOS CONTABLES NOTA 5 (INCISO J) | C11: 08
B12: NOTAS A LOS ESTADOS CONTABLES NOTA 5 (INCISO K a W) | C12: 09
B13: NOTAS A LOS ESTADOS CONTABLES (NOTA 6 a NOTA 12) | C13: 10
B14: CARTERA DE INVERSIONES - ANEXO I | C14: 11
B15: BIENES DE USO - ANEXO II | C15: 12
... B17: COMPOSICIÓN ACCIONARIA - ANEXO DE CAPITAL | C17: 14

Sheet 01
J1: Índice
B2: INFORMACIÓN GENERAL DE LA ENTIDAD
B3: Información al 30/06/2021
B4: 1. IDENTIFICACIÓN
B6: Razón Social: | E6: Cadiem Casa de Bolsa S.A.
B7: Registro CNV: | E7: N° 017 según Res. N° 754/04
B8: Código Bolsa: | E8: N° 017 según Res N° 524/04
B9: Dirección Oficina Principal: | E9: Quesada N° 4926 Edif. Atlas Center Piso 6i
B10: Teléfono: | E10: (021) 610-720
B11: E-mail: | E11: cadiem@cadiem.com.py
B12: Sitio Página Web: | E12: www.cadiem.com.py
B13: Domicilio Legal: | E13: Quesada N° 4926 Edif. Atlas Center Piso 6i
B15: 2. ANTECEDENTES DE CONSTITUCIÓN DE LA SOCIEDAD
B17: Escritura N°: 334 Fecha: 12/11/2003 Inscripción en Registro Público: N° 03, Serie C, Folio 28 y sgtes. Sección Contratos Fecha: 07/01/2004; Escritura N°: 001 Fecha: 02/01/2007 Inscripción en Registro Público: N° 291, Serie E, Folio 2581 y sgtes. Sección Contratos Fecha: 17/04/2007; Escritura N°: 878 Fecha: 24/10/211 Inscripción en Registro Público: N° 28, Serie F, Folio 220 y sgtes. Fecha: 06/04/2012; Escritura N°: 1486 Fecha: 28/11/2014 Inscripción en Registro Público: N° 164. Serie I, Folio 2153 Fecha: 16/02/2015; Escritura N°: 455 Fecha: 02/06/2017 Inscripción en Registro Público: N° 1. Serie Comercial, Folio 1/15 Fecha: 17/08/2017, reingreso 19/09/2017.
B21: 3. Administración
B23: CARGO | E23: NOMBRE Y APELLIDO
B24: Representantes Legales
B25: Presidente | E25: Elías Miguel Gelay
B26: Vice-presidente | E26: César Paredes Franco
B27: Director | E27: Gloria Ayala Person
B28: Sindico | E28: Juana Galeano
B29: Plana Ejecutiva
B30: Gerente Administrativo | E30: Myriam Celeste Silva
B31: Gerente Comercial | E31: Natalia Trinidad
B32: Gerente de Estructuraciones | E32: Viviana Cabrera
B33: Gerente de Tecnología de la Información | E33: Roberto Acosta
B34: Gerente de Operaciones | E34: Rodrigo García
B35: Auditoría Interna | E35: Jessica Díaz
B36: Contador | E36: Jorge Ugarte
B38: 4. CAPITAL Y PROPIEDAD
B40: El capital social de Cadiem Casa de Bolsa S.A. se fija en Gs. 30.000.000.000 según Acta de Asamblea N°31 de fecha 20/11/2020; distribuido en 30.000 acciones nominativas con Valor Nominal Gs. 1.000.000, de Clase Ordinaria Voto Múltiple (OVM) Ordinaria Simple (OS) Preferidas. El Capital Social de la entidad de acuerdo con el Acta N° 25 de fecha 201/11/2020 es de Gs. 20.000.000.000 (guaraníes veinte mil millones)
B42: Capital Emitido Cadiem Casa de Bolsa S.A. | E42: Gs. 26.000.000.000
B43: Capital Suscripto Cadiem Casa de Bolsa S.A. | E43: Gs. 24.426.000.000
B44: Capital Integrado Cadiem Casa de Bolsa S.A. | E44: Gs. 24.426.000.000
B45: Valor Nominal Cadiem Casa de Bolsa S.A. | E45: Gs. 1.000.000
B47: Cuadro de Capital Integrado
B48: N° | C48: Acciones | D48: Voto | E48: Monto
B49: 1 | C49: Nominativa | D49: 71903 | E49: 24426000000
B50: 2 | C50: Nominativa | D50: 1844 | E50: 1844100000
B51: TOTAL | D51: =SUM(D49:D49) -> 71903 | E51: =SUM(E49:E49) -> 24426000000
...

Sheet 02
A1: Índice
B2: CADIEM CASA DE BOLSA S.A.
B3: BALANCE GENERAL CONSOLIDADO
B4: Correspondiente al 30/06/2021, presentado en forma comparativa con el ejercicio cerrado al 31/12/2020
B5: EN GUARANIES
B7: ACTIVO | C7: Nota | D7: 44377 | E7: 44196 | F7: PASIVO | G7: Nota | H7: =+D7 -> 44377 | I7: =+E7 -> 44196
B8: Activo Corriente | F8: Pasivo Corriente
B9: Disponibilidades | C9: 5.D | D9: 14391310118 | E9: 7165716206 | F9: Documentos y Cuentas por Pagar | G9: 5.K | H9: 1511691462 | I9: 3279233336
B10: Inversiones Temporarias | C10: Anexo I | D10: 91712832028 | E10: 34471310239 | F10: Préstamos Financieros | G10: 5.I | H10: 73603059289 | I10: 11881508817
B11: Créditos | C11: 5.E | D11: 5137640787 | E11: 868803521 | F11: Otros Pasivos | G11: 5.P | H11: 456927903 | I11: 886019690
B12: Otros Activos | C12: 5.H | D12: 725933087 | E12: 211534545 | F12: Acreedores por Intermediación | G12: 5.N | H12: 2984363826 | I12: 0
B13: Créditos con Relacionadas | D13: 605900013 | E13: 49169462 | F13: Cuenta con Relacionada | G13: 5.N | H13: 422122058 | I13: 139145657
B14: TOTAL ACTIVO CORRIENTE | D14: =+SUM(D9:D13) -> 112573616033 | E14: =+SUM(E9:E13) -> 42766533973 | F14: TOTAL PASIVO CORRIENTE | H14: =+SUM(H9:H13) -> 78978164538 | I14: =+SUM(I9:I13) -> 16185907500
F15: TOTAL PASIVO | H15: =+H14 -> 78978164538 | I15: =+I14 -> 16185907500
B16: Activo No Corriente | F16: Patrimonio Neto
B17: Inversiones Permanentes | C17: Anexo I | D17: 900000000 | E17: 851000000 | F17: Capital | G17: VPN | H17: 25342800000 | I17: 18026800000
B18: Bienes de Uso | C18: Anexo II | D18: 1718970471 | E18: 1831391432 | F18: Anticipo p/ Integración de Acciones | G18: VPN | H18: 927300000 | I18: 123100000
B19: Activos Intangibles | C19: Anexo III | D19: 406719203 | E19: 450579937 | F19: Valuación Acción BVPASA | G19: VPN | H19: 885500000 | I19: 836500000
B20: Otros Activos No Corrientes | C20: 5.H | D20: 391883542 | E20: 108044082 | F20: Reserva | G20: VPN | H20: 1859161698 | I20: 1556999996
B21: TOTAL ACTIVO NO CORRIENTE | D21: =+SUM(D17:D20) -> 3417573216 | E21: =+SUM(E17:E20) -> 3241015451 | F21: Resultado | G21: VPN | H21: 7.998263e+09 | I21: 9278241928
F22: Total Patrimonio Neto | H22: =SUM(H17:H21) -> 3.7013025e+10 | I22: =SUM(I17:I21) -> 29821641924
B23: TOTAL ACTIVO | D23: =+D14+D21 -> 115991189249 | E23: =+E14+E21 -> 46007549424 | F23: TOTAL PASIVO Y PATRIMONIO NETO | H23: =+H14+H22 -> 1.1599119e+11 | I23: =+I14+I22 -> 46007549424
B26: CUENTA DE ORDEN | C26: Nota | D26: =+D7 -> 44377 | E26: =+E7 -> 44196 | F26: Cuenta de Orden | G26: Nota | H26: =+D26 -> 44377 | I26: =+E26 -> 44196
B27: Deudores Crédito Gs. | C27: 12 | D27: 532611921443 | E27: 94497965895 | F27: Acreedor Gs. | G27: 12 | H27: =+D27 -> 532611921443 | I27: =+E27 -> 94497965895
B28: Deudores Crédito USD | D28: 41812200 | E28: 8289832.4 | F28: Acreedor USD | H28: =+D28 -> 41812200 | I28: =+E28 -> 8289832.4
B29: Contratos Forward - Valor USD | D29: 0 | E29: 500000 | F29: Acreedor USD | H29: =+D29 -> 0 | I29: =+E29 -> 500000
B31: Las 12 notas - Anexo I - Anexo II - Anexo III - Anexo de Capital que acompañan forman parte integral de los estados financieros.

Sheet 03
A1: Índice
B2: CADIEM CASA DE BOLSA S.A.
B3: ESTADO DE RESULTADO
B4: Correspondiente al 30/06/2021, presentado en forma comparativa con el ejercicio cerrado al 30/06/2020
B5: EN GUARANIES
B7: CONCEPTO | C7: Nota | D7: 44377 | E7: 44012
B9: INGRESOS OPERATIVOS | D9: =+SUM(D10:D18) -> 1.8610698e+10 | E9: =+SUM(E10:E18) -> 12288745588
B10: Comisiones por Operación en Rueda | D10: 2229288885 | E10: 1929859749
B11: Ingresos por Administración de Fondos | D11: 11093997411 | E11: 4138312582
B13: Ingresos por Asesoría Financiera | D13: 1040505905 | E13: 794669547
B14: Ingresos por Intereses y Dividendos de Cartera Propia | D14: 2.3091221e+09 | E14: 2356551443
B15: Ingresos con Personas Relacionadas | D15: 49882769 | E15: 0
B16: Ingresos por Venta de Cartera Propia | D16: 1113220380 | E16: 2292208365
B18: Otros Ingresos Operativos | C18: 5.U | D18: 774680527 | E18: 777143902
B20: GASTOS OPERATIVOS | D20: =SUM(D21:D23) -> 4790664427 | E20: =SUM(E21:E23) -> 3500963410
B21: Gastos por Comisiones y Servicios | D21: 2929533392 | E21: 1364474138
B22: Arancel y Fondo de Garantía | D22: 247746038 | E22: 187272736
B23: Otros Gastos Operativos | C23: 5.V | D23: 1613384997 | E23: 1949216536
B24: RESULTADO OPERATIVO BRUTO | D24: =+D9-D20 -> 1.3820034e+10 | E24: =+E9-E20 -> 8787782178
B26: GASTOS DE COMERCIALIZACIÓN | D26: =SUM(D27:D28) -> 242173667 | E26: =SUM(E27:E28) -> 181264652
B27: Publicidad | D27: 164305081 | E27: 101773861
B28: Otros Gastos de Comercialización | C28: 5.V | D28: 77868586 | E28: 79490791
B30: GASTOS DE ADMINISTRACIÓN | D30: =SUM(D31:D39) -> 5761974480 | E30: =SUM(E31:E39) -> 4524081300
B31: Servicios Personales | D31: 4219037023 | E31: 3417228107
B32: Previsión, Amortización y Depreciaciones | D32: 238842696 | E32: 242036508
B33: Mantenimiento | D33: 21420132 | E33: 12569005
B34: Alquileres | D34: 380218315 | E34: 379962742
B35: Gastos Generales | D35: 171838687 | E35: 138604477
B36: Seguros | D36: 7011156 | E36: 6408693
B37: Multas | D37: 2013567 | E37: 4898131
B38: Impuestos, Tasas y Contribuciones | D38: 49479383 | E38: 30943519
B39: Otros Gastos de Administración | C39: 5.V | D39: 672113521 | E39: 291430118
B40: RESULTADO OPERATIVO NETO | D40: =+D24-D26-D30 -> 7.8158854e+09 | E40: =+E24-E26-E30 -> 4082436226
B42: RESULTADOS FINANCIEROS | D42: =+D43+D44 -> 1.8237765e+08 | E42: =+E43+E44 -> 350654120
B43: Generados por Activos | D43: 236126924 | E43: 1071238225
B44: Generados por Pasivos | D44: -53749278 | E44: -720584105
B46: UTILIDAD O (PERDIDA) | D46: =+D40+D42 -> 7.998263e+09 | E46: =+E40+E42 -> 4433090346
B47: IMPUESTO A LA RENTA | D47: 0 | E47: 0
B48: RESULTADO DEL EJERCICIO | D48: =+D46-D47 -> 7.998263e+09 | E48: =+E46-E47 -> 4433090346
B50: Las 12 notas - Anexo I - Anexo II - Anexo III - Anexo de Capital que acompañan forman parte integral de los estados financieros.

Sheet 04
A1: Índice
B2: CADIEM CASA DE BOLSA S.A.
B3: ESTADO DE FLUJO DE EFECTIVO
B4: Correspondiente al 30/06/2021, presentado en forma comparativa con el ejercicio cerrado al 30/06/2020
E6: 44377 | F6: 44012
B7: 1. | C7: FLUJO DE EFECTIVO POR LAS ACTIVIDADES OPERATIVAS
C8: Ingresos en Efectivo por comisiones y otros | E8: 17958770185 | F8: 12628162197
C9: Efectivo pagado a empleados | E9: -3946552351 | F9: -3543949135
C10: Efectivo Generado (usado) por otras actividades | E10: 0 | F10: 0
C11: Total de Efectivo de las Actividades operativas antes de cambios en los activos de operación | E11: =SUM(E8:E10) -> 14012217834 | F11: =SUM(F8:F10) -> 9084213062
C12: (Aumento) Disminución en los activos de operación | E12: =+E13 -> 0 | F12: =+F13 -> 0
C13: Fondos Colocados a corto plazo | E13: 0 | F13: 0
C14: Aumento (Disminución) en pasivos operativos | E14: =+E15 -> -10432030978 | F14: =+F15 -> -2960955725
C15: Pagos a Proveedores | E15: -10432030978 | F15: -2960955725
C16: Efectivo neto de Actividades de Operación antes de impuestos | E16: =+E14+E12+E11 -> 3580186856 | F16: =+F11+F14 -> 6123257337
C17: Impuesto a la renta | E17: -532791863 | F17: 0
C18: Efectivo Neto provisto de Actividades de Operación | E18: =+E16+E17 -> 3047394993 | F18: =+F16+F17 -> 6123257337
B20: 2. | C20: FLUJO DE EFECTIVO EN ACTIVIDADES DE INVERSIÓN
C21: Inversiones en Otras Empresas | E21: 0 | F21: 0
C22: Inversiones Temporarias | E22: -57471945688 | F22: 16127103817
C23: Fondo con destino especial | E23: 0 | F23: 0
C24: Compra de Propiedad, planta y equipo | E24: -82561001 | F24: -28902350
C25: Adquisición de Acciones y Títulos de Deuda (Cartera Propia) | E25: 0 | F25: 0
C26: Intereses percibidos | E26: 277050796 | F26: 120577134
C27: Dividendos percibidos | E27: 239769699 | F27: 229132253
C28: Efectivo Neto en Actividades de Inversión | E28: =SUM(E21:E27) -> -57037686194 | F28: =SUM(F21:F27) -> 16447910854
B30: 3. | C30: FLUJO DE EFECTIVO POR ACTIVIDADES DE FINANCIACIAMIENTO
C31: Aportes de Capital | E31: 0 | F31: 0
C32: Proveniente de préstamos y otras deudas | E32: 62233147089 | F32: -23785075827
C33: Dividendos Pagados | E33: -833242227 | F33: -1757478390
C34: Intereses Pagados | E34: -364842521 | F34: -1250795505
C35: Efecto de las variaciones en tipo de cambio | E35: 180822772 | F35: 350654120
C36: Ajuste a Resultado Acumulado | E36: 0 | F36: 0
C37: Efectivo Neto en Actividades de Financiamiento | E37: =SUM(E31:E36) -> 61215885113 | F37: =SUM(F31:F36) -> -26442695602
C39: Aumento (o disminución) neto de efectivo y sus equivalentes | E39: =+E18+E28+E37 -> 7225593912 | F39: =+F18+F28+F37 -> -3871527411
C40: Efectivo y equivalentes al efectivo al comienzo del período | E40: 7165716206 | F40: 7568029135
C41: Efectivo y equivalentes al efectivo al cierre del período | E41: =+E39+E40 -> 14391310118 | F41: =+F39+F40 -> 3696501724

Sheet 05
A1: Índice
B2: CADIEM CASA DE BOLSA S.A.
B3: ESTADO DE VARIACIÓN DEL PATRIMONIO NETO CONSOLIDADO
B4: Corresponde al 30/06/2021 presentado de forma comparativa al 30/06/2020
B5: EN GUARANIES
B7: Movimientos | E7: RESERVAS | H7: RESULTADOS | J7: PATRIMONIO NETO
C8: Integrado | D8: Valuación Acción BVPASA | E8: Legal | F8: Facultativa | G8: Revalúo | H8: Acumulados | I8: Del Ejercicio | J8: 44377 | K8: 44012
B9: Saldo al Inicio | C9: 17999900000 | D9: 836500000 | E9: 1278999536 | F9: 0 | G9: 278000460 | H9: 0 | I9: 9278241928 | J9: =SUM(C9:I9) -> 29671641924 | K9: =21843852956-1788417065 -> 20055435891
B10: Movimientos Subsecuentes | C10: 0 | D10: 0 | E10: 0 | F10: 0 | G10: 0 | H10: 9278241928 | I10: -9278241928 | J10: 0 | K10: 0
B11: Capitalización de Utilidades | C11: =4351200000+3919000000 -> 8270200000 | D11: 0 | E11: 0 | F11: 0 | G11: 0 | H11: =-8270200000+532871722 -> -7737328278 | I11: 0 | J11: =SUM(C11:I11) -> 532871722 | K11: 0
B12: Transferencia de Acciones | H12: 0 | I12: 0 | J12: =SUM(C12:I12) -> 0
B13: Integración de Acciones | D13: 0 | E13: 0 | F13: 0 | G13: 0 | H13: 0 | I13: 0 | J13: =SUM(C13:I13) -> 0
B14: Aporte p/ Futura Integración | D14: 0 | H14: 0 | K14: 0
B15: Dividendos a Pagar | C15: 0 | D15: 0 | E15: 0 | F15: 0 | G15: 0 | H15: =-320000000-280000000-261455562-14689226-4009604 -> -880154392 | I15: 0 | J15: =SUM(C15:I15) -> -880154392 | K15: 0
B16: Reserva Legal | C16: 0 | D16: 0 | E16: =431376547+229382711-'[1]AUX BBGG-AFPISA'!F106-'[1]AUX BBGG-AFPISA'!F108 -> 302161702 | F16: 0 | G16: 0 | H16: -660759258 | I16: 0 | J16: =SUM(C16:I16) -> -358597556 | K16: 0
B17: Valuación Acc BVPASA | C17: 0 | D17: 49000000 | E17: 0 | F17: 0 | G17: 0 | H17: 0 | I17: 0 | J17: =SUM(C17:I17) -> 49000000 | K17: 0
B18: Revaluó | C18: 0 | D18: 0 | E18: 0 | F18: 0 | G18: 0 | H18: 0 | I18: 0 | J18: 0 | K18: 0
B19: Resultado del Ejercicio | C19: 0 | D19: 0 | E19: 0 | F19: 0 | G19: 0 | H19: 0 | I19: 7.998263e+09 | J19: =SUM(C19:I19) -> 7.998263e+09 | K19: =+I21 -> 4433090346
B20: =+J8 -> 44377 | C20: =SUM(C9:C19) -> 26270100000 | D20: =SUM(D9:D19) -> 885500000 | E20: =SUM(E9:E19) -> 1581161238 | F20: =SUM(F9:F19) -> 0 | G20: =SUM(G9:G19) -> 278000460 | H20: =SUM(H9:H19) -> 0 | I20: =SUM(I9:I19) -> 7.998263e+09 | J20: =SUM(C20:I20) -> 3.7013025e+10 | K20: 0
B21: =+K8 -> 44012 | C21: 17934100000 | D21: 735500000 | E21: 1149126221 | F21: 0 | G21: 236709670 | H21: 0 | I21: 4433090346 | J21: 0 | K21: =SUM(C21:J21) -> 24488526237
B22: Las 12 notas - Anexo I - Anexo II - Anexo III - Anexo de Capital que acompañan forman parte integral de los estados financieros.

Sheet 06
A1: Índice
B2: CADIEM CASA DE BOLSA S.A.
B3: Notas a los Estados Contables al 30 de junio de 2021
B5: Nota 1 – Consideración de los Estados Contables.
B7: Los estados contables fueron aprobados por Acta de Directorio N° 173 de fecha 28/07/2021 sin ninguna información que mencionar.
B9: Nota 2 - Información básica de la empresa
B11: 2.1 Naturaleza Jurídica de las actividades de la sociedad
B12: CADIEM Casa de Bolsa S.A. tiene por objeto efectuar todas las actividades, operaciones y servicios que sean compatibles con la actividad de intermediación en el mercado de valores y cualquier otra actividad permitida que previamente, de manera general, lo autorice la Comisión Nacional de Valores. Fue constituida por Escritura Pública Nro. 334, de fecha 12.11.2003, pasada ante la Escribana Pública Katia Ayala Ratti, e inscripta en los Registros Públicos de Personas Jurídicas y Asociaciones, en fecha 23.12.2003. Modificación de Estatutos: Primera modificación: En el Registro Público de Comercio No.291, Serie E, Folio 2581 y sgtes, por Escritura Pública No. 1 del 02.01.2007, Folio 2 y sgtes, pasada por el Escribano Luis Enrique Peroni. Segunda modificación: En el Registro Público de Comercio Número 688, Serie G, folio 5942 del 23/12/2011. Tercera modificación: En el Registro Público de Comercio Número 147, Serie E, folio 1652 y sgtes de fecha 16/02/2015. Cuarta modificación: En el Registro Público de Comercio Número 1, Serie Comercial, folio 1/15 de fecha 17/08/2017, reingreso 19/09/2017. Habilitada por la Comisión Nacional de Valores para operar como Intermediaria en el Mercado de Valores, llevando la Nomenclatura CB (Casa de Bolsa) seguido de la numeración 017, por Resolución No. 754/04 Acta No. 04/04 de fecha 19.01.2004, e igualmente inscripta en la Bolsa de Valores y Productos de Asunción S.A. por Resolución No. 524/04 de fecha 26.01.2004.
B27: Nota 3 - Principales políticas y prácticas contables aplicadas
B29: 3.1 Base de Preparación de los Estados Contables Consolidados
B31: Los estados financieros consolidados por el ejercicio finalizado el 30 de junio de 2021 han sido preparados de acuerdo con las Normas emitidas por el Consejo de Contadores Públicos del Paraguay y se presentan en Guaraníes. Los estados financieros consolidados comprenden los estados financieros de la Sociedad y su controlada al 30 de junio de cada año. Los estados financieros de la controlada son elaborados al mismo período y aplican las políticas contables consistentes. Todos los saldos, ingresos y costos, ganancias y pérdidas mantenidos entre sí han sido eliminados.
B35: 3.2 Criterio de Valuación
B37: Los estados financieros fueron preparados utilizando como principal criterio de valuación el costo histórico, con las excepciones que se mencionan en los siguientes numerales de esta nota.
... B76: A la fecha del informe no existen cambios de políticas y procedimientos que comunicar en relación con el periodo anterior ni al periódo comparado

Sheet 07
A1: Índice
B2: CADIEM CASA DE BOLSA S.A.
B3: Notas a los Estados Contables al 30 de junio de 2021
B5: Nota 5 – Criterios específicos de valuación
B7: A) Valuación en Moneda Extranjera
B8: CONCEPTO | C8: 44377 | D8: 44012 | E8: 44196
B9: Tipo de cambio comprador | C9: 6733.98 | D9: 6793.79 | E9: 6891.96
B10: Tipo de cambio vendedor | C10: 6761.37 | D10: 6820.47 | E10: 6941.65
B12: B) Posición en Moneda Extranjera
B14: DETALLE | C14: Moneda Extranjera Clase | D14: Moneda Extranjera Monto | E14: Cambio al 30/06/2021 | F14: Saldo al 30/06/2021 Gs. | G14: Cambio al 31/12/2020 | H14: Saldo al 31/12/2020 Gs.
B15: ACTIVO
B16: Activo Corriente
B17: Disponibilidades | C17: USD | D17: 594466.75 | E17: 6733.98 | F17: 4003127204 | G17: 6891.96 | H17: 2588571794
B18: Créditos | C18: USD | D18: 300698.29 | E18: 6733.98 | F18: 2024896243 | G18: 6891.96 | H18: 430162690
B19: Inversiones | C19: USD | D19: 1965330.2 | E19: 6733.98 | F19: 13234494463 | G19: 6891.96 | H19: 15376864538
B20: Otros Activos | C20: USD | D20: 15108.077 | E20: 6733.98 | F20: 101737490 | G20: 6891.96 | H20: 100286288
B21: Activo No Corriente
B22: N/A | C22: N/A | D22: N/A | E22: N/A | F22: N/A | G22: N/A | H22: N/A
B23: N/A | C23: N/A | D23: N/A | E23: N/A | F23: N/A | G23: N/A | H23: N/A
B24: PASIVO
B25: Pasivo Corriente
B26: Deudas Diversas | C26: USD | D26: 6956.71 | E26: 6351.33 | F26: 44184361 | G26: 6941.65 | H26: 4578643
B27: Acreedores por Intermediación | C27: USD | D27: 214759.11 | E27: 6351.33 | F27: 1.364006e+09 | G27: 6941.65 | H27: 7.3525823e+08
B28: Deudas Financieras | C28: USD | D28: 1694788.1 | E28: 6351.33 | F28: 10764158693 | G28: 6941.65 | H28: 11881508817
B29: Pasivo No Corriente
B30: N/A | C30: N/A | D30: N/A | E30: N/A | F30: N/A | G30: N/A | H30: N/A
B31: N/A | C31: N/A | D31: N/A | E31: N/A | F31: N/A | G31: N/A | H31: N/A
B33: C) Diferencia de Cambio en Moneda Extranjera
B35: Concepto | E35: Tipo de Cambio 30/06/2021 | F35: Monto Ajustado 30/06/2021 | G35: Tipo de Cambio 31/12/2020 | H35: Monto Ajustado 31/12/2020
B36: Ganancia por Valuación de Activos Monetarios en Moneda Extranjera | E36: 6733.98 | F36: 2205721476 | G36: 6891.96 | H36: 2456967046
B37: Ganancia por Valuación de Pasivos Monetarios en Moneda Extranjera | E37: 6761.37 | F37: 1077532505 | G37: 6941.65 | H37: 428298362
B38: Pérdida por Valuación de Activos Monetarios en Moneda Extranjera | E38: 6733.98 | F38: -1969594552 | G38: 6891.96 | H38: -1312811667
B39: Pérdida por Valuación de Pasivos Monetarios en Moneda Extranjera | E39: 6761.37 | F39: -1132836657 | G39: 6941.65 | H39: -1039492233
B41: D) Disponibilidades: La cuenta disponibilidades está compuesta por valores de Cuenta Propia y valores de Cuentas Compensadoras, que de detallan a continuación.
B44: Cuenta Propia | C44: =+'02'!D7 -> 44377 | D44: =+'02'!E7 -> 44196
B45: Financiera el Comercio Gs. | C45: 7349958893 | D45: 432539648
B46: Banco Itaú Gs. | C46: 1513733667 | D46: 1124551591
B47: Banco Itaú USD | C47: 631643217 | D47: 532687445
B48: Bancos Varios Gs. | C48: 218268226 | D48: 564321893
B49: Banco Basa USD | C49: 163709788 | D49: 137839269 | E49: (*)
...

Sheet 08
A1: Índice
B2: CADIEM CASA DE BOLSA S.A.
B3: Notas a los Estados Contables al 30 de junio de 2021
B5: Nota 5 – Criterios específicos de valuación
B7: K) Documentos y Cuentas por Pagar (corto y largo plazo)
B9: Acreedores Varios: La composición es la siguiente
B11: CONCEPTO | C11: =+'07'!C44 -> 44377 | D11: =+'07'!D44 -> 44196
B12: Servicios a Pagar Gs. | C12: 1511691462 | D12: 2539396465
B13: Acreedores por Intermediación | C13: 2984363826 | D13: 0
B14: Servicios a Pagar USD | C14: 0 | D14: 739836871
B15: TOTAL | C15: =SUM(C12:C14) -> 4496055288 | D15: =SUM(D12:D14) -> 3279233336
B17: N) Cuentas por Pagar a Personas y Empresas Relacionadas (corto y largo plazo)
B19: RELACIÓN | C19: TIPO DE OPERACIÓN | D19: =+C11 -> 44377 | E19: =+D11 -> 44196
B20: Plana Administrativa | C20: Servicio | D20: 422122058 | E20: 139145657
B21: Accionista | C21: Dividendo | D21: 0 | E21: 0
B22: TOTAL | D22: =SUM(D20:D21) -> 422122058 | E22: =SUM(E20:E21) -> 139145657
B24: P) Otros Pasivos Corrientes y No Corrientes: La composición es la siguiente
B26: Pasivo Corriente
B27: CONCEPTO | C27: =+D19 -> 44377 | D27: =+E19 -> 44196
B28: Impuestos | C28: 355468106 | D28: 368991450
B29: Anticipo de Cliente | C29: 53063826 | D29: 54274120
B30: Dividendos | C30: 46912165 | D30: 0
B31: Tarjeta de Crédito | C31: 1483806 | D31: 9371710
B32: Prov. p/ Pago de Gratificaciones | C32: 0 | D32: 415929318
B33: Ingresos a Devengar | C33: 0 | D33: 37453092
B34: TOTAL | C34: =SUM(C28:C33) -> 456927903 | D34: =SUM(D28:D33) -> 886019690
B36: Q) Saldos y Transacciones con Personas y Empresas Relacionadas (Corriente y No Corriente)
B38: RELACIÓN | C38: TIPO DE OPERACIÓN | D38: =+C27 -> 44377 | E38: =+D27 -> 44196
B39: Plana Ejecutiva | C39: Crédito | D39: 605900013 | E39: 49169462
B40: Plana Administrativa | C40: Crédito / Servicios | D40: -422122058 | E40: -139145657
B41: TOTALES | D41: =SUM(D39:D40) -> 183777955 | E41: =SUM(E39:E40) -> -89976195
B43: R) Resultado con Personas y Empresas Vinculadas
B45: NOMBRE | C45: INGRESOS | D45: EGRESOS
B46: Plana Ejecutiva | C46: 35471805 | D46: -799440601
B47: Plana Administrativa | C47: 1610964 | D47: -1243851055
B48: TOTAL 30/06/2021 | C48: =SUM(C46:C47) -> 37082769 | D48: =SUM(D46:D47) -> -2043291656
B49: TOTAL 30/06/2020 | C49: 48101238 | D49: -1419101255
B51: S) Patrimonio
B53: CONCEPTO | C53: SALDO AL INICIO | D53: AUMENTOS | E53: DISMINUCIÓN | F53: SALDO AL CIERRE
B54: Capital Integrado | C54: 18026800000 | D54: 7316000000 | E54: 0 | F54: 25342800000
...

Sheet 09
A1: Índice
B2: CADIEM CASA DE BOLSA S.A.
B3: Notas a los Estados Contables al 30 de junio de 2021
B5: Nota 6 – Información Referente a Contingencias y Compromisos
B7: A) Compromisos Directos: Al 30 de junio del 2021 no existen compromisos directos relevantes que informar o detallar en la presente nota.
B9: B) Contingencias Legales: La empresa no cuenta con juicios ni otras acciones que comprometa a la libre disponibilidad de sus bienes ni al libre desarrollo de sus actividades comerciales.
B11: C) Garantías Constituidas: La empresa cuenta con un Seguro de Caución “Desempeño de una Actividad o Profesión”, Póliza N°.: 007.1514.001944/000 con la Consolidada de Seguros vigente desde 09/07/2020 al 09/07/2021, por valor de Gs. 548.209.750-
B14: Nota 7 – Hechos posteriores al Cierre del Ejercicio:
B16: Entre la fecha de cierre del trimestre y la fecha de emisión de estos estados financieros, no han ocurrido otros hechos significativos de carácter financiero o de otra índole que afecten la situación patrimonial y financiera o los resultados de la Sociedad.
B19: Nota 8 – Limitación a la libre disponibilidad de los activos o del patrimonio y cualquier restricción al derecho de propiedad.
B21: La empresa no cuenta con ningún tipo de limitación a libre disposición de los activos o de patrimonio, tampoco existe restricciones al derecho de la propiedad.
B24: Nota 9 – Cambios Contables
B26: No se oncurió a ningún cambio en el procedimiento en la aplicación contable y/o estimacipon contable en referencia a los estados contables anteriores al presente.
... B40: Los montos expuestos de las cuentas de orden como parte de la información de los estados contables corresponden a: a) Acciones, Pagarés, Títulos de Capital y Cupones de Intereses de Certificados de Depósitos de Ahorro. Estos valores se encuentran resguardados en la caja fuerte de una entidad bancaria.

Sheet 10
A1: Índice
B2: ANEXO I
B3: CADIEM CASA DE BOLSA S.A.
B4: Cartera de Inversiones al 30/06/2021 comparativo al 31/12/2020
B6: EMISOR | C6: TIPO DE TÍTULO | D6: VALOR NOMINAL UNITARIO | E6: VALOR CONTABLE
B7: Inversiones Temporarias
B8: Biotec del Paraguay S.A. | C8: Bono | D8: 1000000 | E8: 12139728
B9: Frigorifico Concepción S.A. | C9: Bono Corto Plazo | D9: 1000000 | E9: 15948528
B10: Grupo Vazquez S.A.E. | C10: Bono | D10: 1000000 | E10: 9002655
B11: Izaguirre Barrail Inversora S.A.E.C.A. | C11: Bono | D11: 1000000 | E11: =5086351+67306629 -> 72392980
B12: Credicentro S.A.E.C.A. (LCR SAECA) | C12: Bono | D12: 1000000 | E12: =216501208+623390322 -> 839891530
B13: Ministerio de Hacienda | C13: Bonos del Tesoro | D13: 1000000 | E13: =22719754179+2461411530 -> 25181165709
B14: Nucleo S.A. | C14: Bono | D14: 1000000 | E14: 10108960000
B15: Visión Banco S.A.E.C.A. | C15: Bono Subordinado | D15: 1000000 | E15: =53196728+112950378 -> 166147106
B16: Cemento Concepción S.A.E.C.A. | C16: Bono | D16: 1000000 | E16: =10373110000+78345155 -> 10451455155
B17: Electroban S.A.E.C.A. | C17: Bono | D17: 1000000 | E17: 112501490
B18: Electroban S.A.E.C.A. | C18: Acciones Preferidas | D18: 500000 | E18: =1500000000+3822000+700000000+1783600 -> 2205605600
B19: Credicentro S.A.E.C.A. | C19: Acciones Preferidas | D19: 1000000 | E19: =4000000+3945+50000000+49300+980000000+684000000+2087304936 -> 3805358181
B20: Banco Itaú Paraguay S.A. | C20: CDA | D20: 100000000 | E20: 10111210034
B21: Banco Nacional de Fomento | C21: CDA - Cupón | D21: 47124658 | E21: 753994521
B22: Credicentro S.A.E.C.A. | C22: Pagaré | D22: 10000000000 | E22: =10000000000+180821918+180+1 -> 10180822099
B23: 2A Emprendimiento S.A. | C23: Pagaré | D23: 2350000000 | E23: 2350000000
B24: Electroban S.A.E.C.A. | C24: Acciones Pacto | D24: 500000 | E24: 315000000
B25: Credicentro S.A.E.C.A. | C25: Acciones Pacto | D25: 1000000 | E25: 315000000
B26: Banco Nacional de Fomento | C26: CDA - Pacto | D26: 0 | E26: 1471742250
B27: SUB TOTAL GS | E27: =SUM(E8:E26) -> 78478337566
B28: Grupo Vazquez S.A.E. | C28: Bono | D28: 1000 | E28: 90018.9
B29: Banco Basa S.A. | C29: Bono Financiero | D29: 1000 | E29: 8079.36
B30: Finexpar S.A.E.C.A. | C30: Bono Subordinado | D30: 1000 | E30: =768254.76+917183.57 -> 1685438.3
B31: Financiera el Comercio S.A.E.C.A. | C31: CDA | D31: 25000 | E31: 50165.79
B32: Finexpar S.A.E.C.A. | C32: CDA | D32: 100000 | E32: 100313.98
B33: Deuda Privada | C33: Pagaré | D33: 31313.87 | E33: 31313.87
B34: SUB TOTAL USD | E34: =SUM(E28:E33) -> 1965330.2
B35: TIPO DE CAMBIO | E35: =+'07'!C9 -> 6733.98
B36: SUB TOTAL EN GS | E36: =+E35*E34 -> 1.3234494e+10
B37: TOTAL AL 30/06/2021 | E37: =+E36+E27 -> 9.1712832e+10
B38: TOTAL AL 31/12/2020 | E38: =24181604113+10289706126 -> 34471310239
B40: Inversiones Permanentes
B41: B.V.P.A. S.A. | C41: Acciones Ordinarias | D41: 200000000 | E41: 900000000
B42: =+B37 -> TOTAL AL 30/06/2021 | E42: =SUM(E41:E41) -> 900000000
...

Sheet 11
A1: Índice
B2: ANEXO II
B3: CADIEM CASA DE BOLSA S.A.
B4: Cuadro de Bienes de Uso al 30 de junio del 2021
B5: (En Guaraníes)
B6: R U B R O | C6: VALORES ORIGINALES | H6: DEPRECIACIONES | M6: NETO RESULTANTE
C7: Valores al inicio | D7: Altas | E7: Bajas | F7: Revalúo del Periódo | G7: Valores al Cierre | H7: Acumuladas al inicio | I7: Altas | J7: Bajas | K7: Depreciación del Periódo | L7: Acumuladas al Cierre
B8: Bienes de uso e intangible
B9: Muebles y Útiles | C9: 502676610 | D9: 7189091 | E9: 0 | F9: 0 | G9: 509865701 | H9: -142640511 | I9: 0 | J9: 0 | K9: -23087568 | L9: -165728079 | M9: 344137622
B10: Equipos de Oficina | C10: 322819832 | D10: 14650908 | E10: 0 | F10: 0 | G10: 337470740 | H10: -92889083 | I10: 0 | J10: 0 | K10: -14612526 | L10: -107501609 | M10: 229969131
B11: Equipos de Informática | C11: 517459275 | D11: 44160045 | E11: 0 | F11: 0 | G11: 561619320 | H11: -315153327 | I11: 0 | J11: 0 | K11: -44802882 | L11: -359956209 | M11: 201663111
B12: Instalaciones | C12: 1140034165 | D12: 0 | E12: 0 | F12: 0 | G12: 1140034165 | H12: -326667791 | I12: 0 | J12: 0 | K12: -45172152 | L12: -371839943 | M12: 768194222
B13: Mejoras en Predio Ajeno | C13: 629617356 | D13: 3349091 | E13: 0 | F13: 0 | G13: 632966447 | H13: -415459578 | I13: 0 | J13: 0 | K13: -52990734 | L13: -468450312 | M13: 164516135
B14: Maquinarias y Equipos | C14: 26735570 | D14: 0 | E14: 0 | G14: 26735570 | H14: -15141086 | K14: -1104234 | L14: -16245320 | M14: 10490250
B15: TOTAL 30/06/2021 | C15: 3139342808 | D15: 69349135 | E15: 0 | F15: 0 | G15: 3208691943 | H15: -1307951376 | I15: 0 | J15: 0 | K15: -181770096 | L15: -1489721472 | M15: 1718970471
B16: TOTAL 31/12/2020 | C16: 3240527202 | D16: 91021365 | E16: -192205759 | F16: 0 | G16: 3139342808 | H16: -1018626354 | I16: 0 | J16: 0 | K16: -289325022 | L16: -1307951376 | M16: 1831391432

Sheet 12
A1: Índice
B2: ANEXO III
B3: CADIEM CASA DE BOLSA S.A.
B4: Cuadro de Intangibles por al 30 de junio del 2021
B5: (En Guaraníes)
B6: R U B R O | C6: VALORES ORIGINALES | H6: DEPRECIACIONES | M6: NETO RESULTANTE
C7: Valores al inicio | D7: Altas | E7: Bajas | F7: Revalúo del Periódo | G7: Valores al Cierre | H7: Acumuladas al inicio | I7: Altas | J7: Bajas | K7: Depreciación del Periódo | L7: Acumuladas al Cierre
B8: Intangible
B9: Licencia | C9: 593462108 | D9: 593462108 | E9: 0 | F9: 0 | G9: 606673974 | H9: -142882171 | I9: 0 | J9: 0 | K9: -57072600 | L9: -199954771 | M9: 406719203
B10: TOTAL 30/06/2021 | C10: 593462108 | D10: 593462108 | E10: 0 | F10: 0 | G10: 606673974 | H10: -142882171 | I10: 0 | J10: 0 | K10: -57072600 | L10: -199954771 | M10: 406719203
B11: TOTAL 31/12/2020 | C11: 0 | D11: 593462108 | E11: 0 | F11: 0 | G11: 593462108 | H11: 0 | I11: 0 | J11: 0 | K11: -142882171 | L11: -142882171 | M11: 450579937

Sheet 13
A1: Índice
B2: ANEXO DE CAPITAL
B3: CADIEM CASA DE BOLSA S.A.
B4: Composición Accionaria al 30/06/2021
B6: CAPITAL INTEGRADO
B7: Accionistas | C7: Votos | D7: Capital Integrado | E7: % Participación en el Capital Integrado | F7: (%) Votos
B9: Gloria Ayala Person | C9: 17550 | D9: 3761200000 | E9: =+D9/$D$46 -> 0.14317418 | F9: =+C9/$C$46 -> 0.23797578
B10: César Paredes Franco | C10: 17550 | D10: 3711200000 | E10: =+D10/$D$46 -> 0.14127087 | F10: =+C10/$C$46 -> 0.23797578
B11: Elías Miguel Gelay | C11: 17550 | D11: 3711200000 | E11: =+D11/$D$46 -> 0.14127087 | F11: =+C11/$C$46 -> 0.23797578
B12: Liliana Yolanda Meza | C12: 12449 | D12: 3284000000 | E12: =+D12/$D$46 -> 0.12500904 | F12: =+C12/$C$46 -> 0.16880687
B13: Jaime Hitoshi Kurosu Ishigaki | C13: 300 | D13: 750000000 | E13: =+D13/$D$46 -> 0.028549568 | F13: =+C13/$C$46 -> 0.0040679621
B14: MADIBA S.A. | C14: 177 | D14: 402000000 | E14: =+D14/$D$46 -> 0.015302568 | F14: =+C14/$C$46 -> 0.0024000976
B15: Marcos Aurelio Mañotti Gonzalez | C15: 436 | D15: 551000000 | E15: =+D15/$D$46 -> 0.020974416 | F15: =+C15/$C$46 -> 0.0059121049
B16: James Edward Clifton Spalding Hellmer | C16: 267 | D16: 467000000 | E16: =+D16/$D$46 -> 0.017776864 | F16: =+C16/$C$46 -> 0.0036204863
B17: Erasmo Luis Aguilar Delvalle | C17: 431 | D17: 846000000 | E17: =+D17/$D$46 -> 0.032203912 | F17: =+C17/$C$46 -> 0.0058443055
B18: Hugo Cesar Recalde Benitez | C18: 278 | D18: 728000000 | E18: =+D18/$D$46 -> 0.027712114 | F18: =+C18/$C$46 -> 0.0037696449
B19: Roberto Jose Blumenfeld | C19: 652 | D19: 1002000000 | E19: =+D19/$D$46 -> 0.038142223 | F19: =+C19/$C$46 -> 0.0088410376
B20: Francisco Yanagida Ishikawa | C20: 254 | D20: 504000000 | E20: =+D20/$D$46 -> 0.01918531 | F20: =+C20/$C$46 -> 0.0034442079
... B45: Marcelo Emilio Ayala Person | C45: 0 | D45: 12000000 | E45: =+D45/$D$46 -> 0.00045679308 | F45: =+C45/$C$46 -> 0
B46: TOTAL | C46: =SUM(C9:C45) -> 73747 | D46: =SUM(D9:D45) -> 26270100000 | E46: =SUM(E9:E45) -> 1 | F46: =SUM(F9:F45) -> 1
