Workbook

Sheet CARATULA
B2: ESTADOS FINANCIEROS CONSOLIDADO CADIEM CASA DE BOLSA S.A. s/ Res. N° 30/2021

Sheet ÍNDICE
B2: INDICE
B4: INFORMACIÓN GENERAL DE LA ENTIDAD | C4: 01
B5: BALANCE GENERAL | C5: 02
B6: ESTADO DE RESULTADO | C6: 03
B7: NOTAS A LOS ESTADOS CONTABLES (NOTA 1 a NOTA 4) | C7: 04
B8: NOTAS A LOS ESTADOS CONTABLES NOTA 5 (INCISO A a I) | C8: 05
B9: NOTAS A LOS ESTADOS CONTABLES NOTA 5 (INCISO K a V) | C9: 06
B10: NOTAS A LOS ESTADOS CONTABLES (NOTA 6 a NOTA 12) | C10: 07
B11: CARTERA DE INVERSIONES - ANEXO I | C11: 08
B12: BIENES DE USO - ANEXO II | C12: 09
B13: INTAGIBLES - ANEXO III | C13: 10

Sheet 01
J1: Índice
B2: INFORMACIÓN GENERAL DE LA ENTIDAD
B3: Información al 30/06/2022
B4: 1. IDENTIFICACIÓN
B6: Razón Social: | E6: Cadiem Casa de Bolsa S.A.
B7: Registro CNV: | E7: N° 017 según Res. N° 754/04
B8: Código Bolsa: | E8: N° 017 según Res N° 524/04
B9: Dirección Oficina Principal: | E9: Quesada N° 4926 Edif. Atlas Center Piso 6i
B10: Teléfono: | E10: (021) 610-720
B11: E-mail: | E11: cadiem@cadiem.com.py
B12: Sitio Página Web: | E12: www.cadiem.com.py
B13: Domicilio Legal: | E13: Quesada N° 4926 Edif. Atlas Center Piso 6i
B15: 2. ANTECEDENTES DE CONSTITUCIÓN DE LA SOCIEDAD
B17: Escritura N°: 334 Fecha: 12/11/2003 Inscripción en Registro Público: N° 03, Serie C, Folio 28 y sgtes. Sección Contratos Fecha: 07/01/2004; Escritura N°: 001 Fecha: 02/01/2007 Inscripción en Registro Público: N° 291, Serie E, Folio 2581 y sgtes. Sección Contratos Fecha: 17/04/2007; Escritura N°: 878 Fecha: 24/10/211 Inscripción en Registro Público: N° 28, Serie F, Folio 220 y sgtes. Fecha: 06/04/2012; Escritura N°: 1486 Fecha: 28/11/2014 Inscripción en Registro Público: N° 164. Serie I, Folio 2153 Fecha: 16/02/2015; Escritura N°: 455 Fecha: 02/06/2017 Inscripción en Registro Público: N° 1. Serie Comercial, Folio 1/15 Fecha: 17/08/2017, reingreso 19/09/2017.
B21: 3. Administración
B23: CARGO | E23: NOMBRE Y APELLIDO
B24: Representantes Legales
B25: Presidente | E25: Elías Miguel Gelay
B26: Vice-presidente | E26: César Paredes Franco
B27: Director | E27: Gloria Ayala Person
B28: Sindico | E28: Juana Galeano
B29: Plana Ejecutiva
B30: Gerente Administrativo | E30: Myriam Celeste Silva
B31: Gerente Comercial | E31: Natalia Trinidad
B32: Gerente de Estructuraciones | E32: Viviana Cabrera
B33: Gerente de Tecnología de la Información | E33: Roberto Acosta
B34: Gerente de Operaciones | E34: Rodrigo García
B35: Auditoría Interna | E35: Jessica Díaz
B36: Contador | E36: Jorge Ugarte
B38: 4. CAPITAL Y PROPIEDAD
B40: El capital social se fija en Gs. 60.000.000.000 según Acta de Asamblea N° 34 de fecha 25/03/2022, distribuido en 60.000 acciones nominativas con Valor Nominal Gs. 1.000.000, de Clase Ordinaria Voto Múltiple (OVM) Ordinaria Simple (OS) y Preferidas.
B42: Capital Emitido | E42: Gs. 60.000.000.000
B43: Capital Suscripto | E43: Gs. 44.797.000.000
B44: Capital Integrado | E44: Gs. 35.629.000.000
B45: Valor Nominal | E45: Gs. 1.000.000
B48: 5. AUDITOR EXTERNO INDEPENDIENTE
B50: Nombre: | D50: Amaral & Asociados
B51: Registro CNV: | D51: AE 023
B52: Dirección: | D52: 25 de Mayo N° 1894 esq. Gral. Aquino
B53: Teléfono: | D53: 202-760
...

Sheet 02
A1: Índice
B2: CADIEM CASA DE BOLSA S.A.
B3: BALANCE GENERAL CONSOLIDADO
B4: Correspondiente al 30/06/2022, presentado en forma comparativa con el ejercicio cerrado al 31/12/2021
B5: EN GUARANIES
B7: ACTIVO | C7: Nota | D7: 44742 | E7: 44561 | F7: PASIVO | G7: Nota | H7: =+D7 -> 44742 | I7: =+E7 -> 44561
B8: Activo Corriente | F8: Pasivo Corriente
B9: Disponibilidades | C9: 5.D | D9: 11816209606 | E9: 3904496307 | F9: Documentos y Cuentas por Pagar | G9: 5.K | H9: 4.2708563e+08 | I9: 1685494805
B10: Inversiones Temporarias | C10: Anexo I | D10: 57641682519 | E10: 68381102752 | F10: Préstamos Financieros | G10: 5.I | H10: 27098528099 | I10: 35598040239
B11: Créditos | C11: 5.E | D11: 2.958234e+09 | E11: 4614082342 | F11: Otros Pasivos | G11: 5.P | H11: 1561347062 | I11: 2104463711
B12: Otros Activos | C12: 5.H | D12: 4155231881 | E12: 2935566917 | F12: Acreedores por Intermediación | G12: 5.K | H12: 4823217298 | I12: 1571596790
B13: TOTAL ACTIVO CORRIENTE | D13: =SUM(D9:D12) -> 7.6571358e+10 | E13: =SUM(E9:E12) -> 79835248318 | F13: TOTAL PASIVO CORRIENTE | H13: =SUM(H9:H12) -> 3.3910178e+10 | I13: =SUM(I9:I12) -> 40959595545
F14: TOTAL PASIVO | H14: =+H13 -> 3.3910178e+10 | I14: =+I13 -> 40959595545
B15: Activo No Corriente | F15: Patrimonio Neto
B16: Inversiones Permanentes | C16: Anexo I | D16: 2156421250 | E16: 2157655375 | F16: Capital | G16: VPN | H16: 38471700000 | I16: 26270100000
B17: Bienes de Uso | C17: Anexo II | D17: 1714258518 | E17: 1705782525 | F17: Valuación Acción BVPASA | G17: VPN | H17: 885500000 | I17: 885500000
B18: Activos Intangibles | C18: Anexo III | D18: 434649557 | E18: 410632226 | F18: Reserva | G18: VPN | H18: 2583372367 | I18: 1858610926
B19: Otros Activos No Corrientes | C19: 5.H | D19: 181417176 | E19: 155772119 | F19: Resultado | G19: VPN | H19: 5207354052 | I19: 14291284092
B20: TOTAL ACTIVO NO CORRIENTE | D20: =SUM(D16:D19) -> 4486746501 | E20: =SUM(E16:E19) -> 4429842245 | F20: Total Patrimonio Neto | H20: =SUM(H16:H19) -> 47147926419 | I20: =SUM(I16:I19) -> 43305495018
B22: TOTAL ACTIVO | D22: =+D13+D20 -> 8.1058105e+10 | E22: =+E13+E20 -> 84265090563 | F22: TOTAL PASIVO Y PATRIMONIO NETO | H22: =+H20+H14 -> 8.1058105e+10 | I22: =+I20+I14 -> 84265090563
B25: CUENTA DE ORDEN | C25: Nota | D25: =+D7 -> 44742 | E25: =+E7 -> 44561 | F25: Cuenta de Orden | G25: Nota | H25: =+D25 -> 44742 | I25: =+E25 -> 44561
B26: Deudores Crédito Gs. | C26: 12 | D26: 602044954659 | E26: 676401013521 | F26: Acreedor Gs. | G26: 12 | H26: =+D26 -> 602044954659 | I26: =+E26 -> 676401013521
B27: Deudores Crédito USD | D27: 53563373 | E27: 55382300 | F27: Acreedor USD | H27: =+D27 -> 53563373 | I27: =+E27 -> 55382300
B28: Contratos Forward - Valor USD | D28: 1700000 | E28: 1500000 | F28: Acreedor USD | H28: =+D28 -> 1700000 | I28: =+E28 -> 1500000
B30: Las 12 notas - Anexo I - Anexo II - Anexo III - Anexo de Capital que acompañan forman parte integral de los estados financieros.

Sheet 03
A1: Índice
B2: CADIEM CASA DE BOLSA S.A.
B3: ESTADO DE RESULTADO
B4: Correspondiente al 30/06/2022, presentado en forma comparativa con el ejercicio cerrado al 30/06/2021
B5: EN GUARANIES
B7: CONCEPTO | C7: Nota | D7: 44742 | E7: 44377
B9: INGRESOS OPERATIVOS | D9: =SUM(D10:D16) -> 16194454240 | E9: =SUM(E10:E16) -> 1.8610698e+10
B10: Comisiones por Operación en Rueda | D10: 1914464594 | E10: 2229288885
B11: Ingresos por Administración de Fondos | D11: 15884884569 | E11: 11093997411
B12: Ingresos por Asesoría Financiera | D12: 401991700 | E12: 1040505905
B13: Ingresos por Intereses y Dividendos de Cartera Propia | D13: 2189598779 | E13: 2.3091221e+09
B14: Ingresos con Personas Relacionadas | D14: 0 | E14: 49882769
B15: Ingresos por Venta de Cartera Propia | D15: -4545633856 | E15: 1113220380
B16: Otros Ingresos Operativos | C16: 5.U | D16: 349148454 | E16: 774680527
B18: GASTOS OPERATIVOS | D18: =SUM(D19:D21) -> 4105320380 | E18: =SUM(E19:E21) -> 4790664427
B19: Gastos por Comisiones y Servicios | D19: 2834165810 | E19: 2929533392
B20: Arancel y Fondo de Garantía | D20: 298892622 | E20: 247746038
B21: Otros Gastos Operativos | C21: 5.V | D21: 972261948 | E21: 1613384997
B22: RESULTADO OPERATIVO BRUTO | D22: =+D9-D18 -> 12089133860 | E22: =+E9-E18 -> 1.3820034e+10
B24: GASTOS DE COMERCIALIZACIÓN | D24: =SUM(D25:D26) -> 520798029 | E24: =SUM(E25:E26) -> 242173667
B25: Publicidad | D25: 42473413 | E25: 164305081
B26: Otros Gastos de Comercialización | C26: 5.V | D26: 478324616 | E26: 77868586
B28: GASTOS DE ADMINISTRACIÓN | D28: =SUM(D29:D37) -> 6408711910 | E28: =SUM(E29:E37) -> 5761974480
B29: Servicios Personales | D29: 4647055770 | E29: 4219037023
B30: Previsión, Amortización y Depreciaciones | D30: 222887538 | E30: 238842696
B31: Mantenimiento | D31: 36867884 | E31: 21420132
B32: Alquileres | D32: 492523373 | E32: 380218315
B33: Gastos Generales | D33: 198647442 | E33: 171838687
B34: Seguros | D34: 7242642 | E34: 7011156
B35: Multas | D35: 0 | E35: 2013567
B36: Impuestos, Tasas y Contribuciones | D36: 86460298 | E36: 49479383
B37: Otros Gastos de Administración | C37: 5.V | D37: 717026963 | E37: 672113521
B38: RESULTADO OPERATIVO NETO | D38: =+D22-D24-D28 -> 5159623921 | E38: =+E22-E24-E28 -> 7.8158854e+09
B40: RESULTADOS FINANCIEROS | D40: =+D41+D42 -> 245554440 | E40: =+E41+E42 -> 1.8237765e+08
B41: Generados por Activos | D41: 415790409 | E41: 236126924
B42: Generados por Pasivos | D42: -170235969 | E42: -53749278
B43: Resultado por Consolidación | D43: 197824309 | E43: 0
B45: UTILIDAD O (PERDIDA) | D45: =+D38+D40-D43 -> 5207354052 | E45: =+E38+E40 -> 7.998263e+09
B46: IMPUESTO A LA RENTA | D46: 0 | E46: 0
B47: RESULTADO DEL EJERCICIO | D47: =+D45-D46 -> 5207354052 | E47: =+E45-E46 -> 7.998263e+09
...

Sheet 04
A1: Índice
B2: CADIEM CASA DE BOLSA S.A.
B3: Notas a los Estados Contables al 30 de junio de 2022
B5: Nota 1 – Consideración de los Estados Contables.
B7: Los estados contables fueron aprobados por Acta de Directorio N° 195 de fecha 12/08/2022 sin ninguna información que mencionar.
B9: Nota 2 - Información básica de la empresa
B11: 2.1 Naturaleza Jurídica de las actividades de la sociedad
B12: CADIEM Casa de Bolsa S.A. tiene por objeto efectuar todas las actividades, operaciones y servicios que sean compatibles con la actividad de intermediación en el mercado de valores y cualquier otra actividad permitida que previamente, de manera general, lo autorice la Comisión Nacional de Valores. Fue constituida por Escritura Pública Nro. 334, de fecha 12.11.2003, pasada ante la Escribana Pública Katia Ayala Ratti, e inscripta en los Registros Públicos de Personas Jurídicas y Asociaciones, en fecha 23.12.2003. Modificación de Estatutos: Primera modificación: En el Registro Público de Comercio No.291, Serie E, Folio 2581 y sgtes, por Escritura Pública No. 1 del 02.01.2007, Folio 2 y sgtes, pasada por el Escribano Luis Enrique Peroni. Segunda modificación: En el Registro Público de Comercio Número 688, Serie G, folio 5942 del 23/12/2011. Tercera modificación: En el Registro Público de Comercio Número 147, Serie E, folio 1652 y sgtes de fecha 16/02/2015. Cuarta modificación: En el Registro Público de Comercio Número 1, Serie Comercial, folio 1/15 de fecha 17/08/2017, reingreso 19/09/2017. Habilitada por la Comisión Nacional de Valores para operar como Intermediaria en el Mercado de Valores, llevando la Nomenclatura CB (Casa de Bolsa) seguido de la numeración 017, por Resolución No. 754/04 Acta No. 04/04 de fecha 19.01.2004, e igualmente inscripta en la Bolsa de Valores y Productos de Asunción S.A. por Resolución No. 524/04 de fecha 26.01.2004.
B27: Nota 3 - Principales políticas y prácticas contables aplicadas
B29: 3.1 Base de Preparación de los Estados Contables Consolidados
B31: Los estados financieros consolidados por el ejercicio finalizado el 30 de junio de 2022 han sido preparados de acuerdo con las Normas emitidas por el Consejo de Contadores Públicos del Paraguay y se presentan en Guaraníes. Los estados financieros consolidados comprenden los estados financieros de la Sociedad y su controlada al 31 de diciembre de cada año. Los estados financieros de la controlada son elaborados al mismo período y aplican las políticas contables consistentes. Todos los saldos, ingresos y costos, ganancias y pérdidas mantenidos entre sí han sido eliminados.
B35: 3.2 Criterio de Valuación
B37: Los estados financieros fueron preparados utilizando como principal criterio de valuación el costo histórico, con las excepciones que se mencionan en los siguientes numerales de esta nota.
... B75: A la fecha del informe no existen cambios de políticas y procedimientos que comunicar en relación con el periodo anterior ni al periodo comparado

Sheet 05
A1: Índice
B2: CADIEM CASA DE BOLSA S.A.
B3: Notas a los Estados Contables al 30 de junio de 2022
B5: Nota 5 – Criterios específicos de valuación
B7: A) Valuación en Moneda Extranjera
B8: CONCEPTO | C8: 44742 | D8: 44377 | E8: 44561
B9: Tipo de cambio comprador | C9: 6837.9 | D9: 6733.98 | E9: 6870.81
B10: Tipo de cambio vendedor | C10: 6850.05 | D10: 6761.37 | E10: 6887.4
B12: B) Posición en Moneda Extranjera
B14: DETALLE | C14: Moneda Extranjera Clase | D14: Moneda Extranjera Monto | E14: Cambio al | F14: Saldo al | G14: Cambio al | H14: Saldo al
E15: 44742 | F15: 44742 | G15: 44561 | H15: 44561
B16: ACTIVO
B17: Activo Corriente
B18: Disponibilidades | C18: USD | D18: 640008.52 | E18: 6837.9 | F18: 4376314272 | G18: 6870.81 | H18: 1939506745
B19: Créditos | C19: USD | D19: 327761.64 | E19: 6837.9 | F19: 2241201318 | G19: 6870.81 | H19: 1527331731
B20: Inversiones | C20: USD | D20: 2287324.4 | E20: 6837.9 | F20: 15640495378 | G20: 6870.81 | H20: 16396309013
B21: Otros Activos | C21: USD | D21: 0 | E21: 6837.9 | F21: 0 | G21: 6870.81 | H21: 103728530
B22: Activo No Corriente
B23: N/A | C23: N/A | D23: N/A | E23: N/A | F23: N/A | G23: N/A | H23: N/A
B24: N/A | C24: N/A | D24: N/A | E24: N/A | F24: N/A | G24: N/A | H24: N/A
B25: PASIVO
B26: Pasivo Corriente
B27: Deudas Diversas | C27: USD | D27: 0 | E27: 6850.05 | F27: 0 | G27: 6887.4 | H27: 0
B28: Acreedores por Intermediación | C28: USD | D28: 0 | E28: 6850.05 | F28: 0 | G28: 6887.4 | H28: 0
B29: Deudas Financieras | C29: USD | D29: 1006541.1 | E29: 6850.05 | F29: 6894856862 | G29: 6887.4 | H29: 6937253481
B30: Pasivo No Corriente
B31: N/A | C31: N/A | D31: N/A | E31: N/A | F31: N/A | G31: N/A | H31: N/A
B32: N/A | C32: N/A | D32: N/A | E32: N/A | F32: N/A | G32: N/A | H32: N/A
B33: C) Diferencia de Cambio en Moneda Extranjera
B35: Concepto | E35: Tipo de Cambio | F35: Monto Ajustado | G35: Tipo de Cambio | H35: Monto Ajustado
E36: 44742 | F36: 44742 | G36: 44561 | H36: 44561
B37: Ganancia por Valuación de Activos Monetarios en Moneda Extranjera | E37: 6837.9 | F37: 988663623 | G37: 6870.81 | H37: 3093556782
B38: Ganancia por Valuación de Pasivos Monetarios en Moneda Extranjera | E38: 6850.05 | F38: 215623756 | G38: 6887.4 | H38: 1189004187
B39: Pérdida por Valuación de Activos Monetarios en Moneda Extranjera | E39: 6837.9 | F39: -721182580 | G39: 6870.81 | H39: -2339718215
B40: Pérdida por Valuación de Pasivos Monetarios en Moneda Extranjera | E40: 6850.05 | F40: -234047632 | G40: 6887.4 | H40: -1606404089
B42: D) Disponibilidades: La cuenta disponibilidades está compuesta por valores de Cuenta Propia y valores de Cuentas Compensadoras, que de detallan a continuación.
B45: Cuenta Propia | C45: =+'02'!D7 -> 44742 | D45: =+'02'!E7 -> 44561
B46: Banco Basa Gs. | C46: 3009203440 | D46: 0
B47: Banco Itaú Gs. | C47: 2141942903 | D47: 354902470
B48: Banco Itaú USD | C48: 1166995326 | D48: 209113927
...

Sheet 06
A1: Índice
B2: CADIEM CASA DE BOLSA S.A.
B3: Notas a los Estados Contables al 30 de junio de 2022
B5: Nota 5 – Criterios específicos de valuación
B7: K) Documentos y Cuentas por Pagar (corto y largo plazo)
B9: Acreedores Varios: La composición es la siguiente
B11: CONCEPTO | C11: =+'05'!C45 -> 44742 | D11: =+'05'!D45 -> 44561
B12: Servicios a Pagar Gs. | C12: 427085627 | D12: 1685494805
B13: Servicios a Pagar USD | C13: 0 | D13: 0
B14: TOTAL | C14: =SUM(C12:C13) -> 427085627 | D14: =SUM(D12:D13) -> 1685494805
B16: Acreedores Por Operación: La composición es la siguiente
B18: CONCEPTO | C18: =+C11 -> 44742 | D18: =+D11 -> 44561
B19: Intermediación Negociación de Títulos | C19: 4416722770 | D19: 1571596790
B20: Acreedores Vto Títulos | C20: 406494528 | D20: 0
B21: TOTAL | C21: =SUM(C19:C20) -> 4823217298 | D21: =SUM(D19:D19) -> 1571596790
B23: P) Otros Pasivos Corrientes y No Corrientes: La composición es la siguiente
B25: Pasivo Corriente
B26: CONCEPTO | C26: =+C11 -> 44742 | D26: =+D11 -> 44561
B27: Tarjeta de Crédito | C27: 20397020 | D27: 22034957
B28: Prov. p/ Pago de Gratificaciones | C28: 929304148 | D28: 954893781
B29: Dividendos | C29: 13687366 | D29: 0
B30: Aporte Patronal | C30: 240199372 | D30: 0
B31: Impuestos | C31: 275705410 | D31: 1061793644
B32: Ingresos a Devengar | C32: 1689017 | D32: 10485000
B33: Anticipo de Cliente | C33: 80364729 | D33: 55256329
B34: TOTAL | C34: =SUM(C27:C33) -> 1561347062 | D34: =SUM(D27:D33) -> 2104463711
B36: U) Ingresos Operativos
B38: Otros Ingresos Operativos
B39: CONCEPTO | C39: =+'03'!D7 -> 44742 | D39: =+'03'!E7 -> 44377
B40: Ingresos Varios por Asesoría. | C40: 30523341 | D40: 314966091
B41: Negociación de Títulos Valores | C41: 0 | D41: 319827328
B42: Servicios de Representación | C42: 180460656 | D42: 77700000
B43: Intereses Cobrados | C43: 58397708 | D43: 19671014
B44: Ingresos Operativos Varios | C44: 79766749 | D44: 42516094
B45: TOTAL | C45: =SUM(C40:C44) -> 349148454 | D45: =SUM(D40:D44) -> 774680527
B47: V) Otros Gastos Operativos, de Comercialización y de Administración
B49: Otros Gastos Operativos
B50: CONCEPTO | C50: =+C39 -> 44742 | D50: =+D39 -> 44377
B51: Intereses y Gastos de Financiación | C51: 780819358 | D51: 1414274958
B52: Gastos Bursátiles | C52: 20756207 | D52: 23056138
...

Sheet 07
A1: Índice
B2: CADIEM CASA DE BOLSA S.A.
B3: Notas a los Estados Contables al 30 de junio de 2022
B5: Nota 6 – Información Referente a Contingencias y Compromisos
B7: A) Compromisos Directos: Al 30 de junio del 2022 no existen compromisos directos relevantes que informar o detallar en la presente nota.
B9: B) Contingencias Legales: La empresa no cuenta con juicios ni otras acciones que comprometa a la libre disponibilidad de sus bienes ni al libre desarrollo de sus actividades comerciales.
B11: C) Garantías Constituidas: La empresa cuenta con un Seguro de Caución “Desempeño de una Actividad o Profesión”, Póliza N°.: 007.1514.002059/000 con la Consolidada de Seguros vigente desde 05/07/2021 al 05/07/2022, por valor de Gs. 572.331.000-
B14: Nota 7 – Hechos posteriores al Cierre del Ejercicio:
B16: Entre la fecha de cierre del trimestre y la fecha de emisión de estos estados financieros, no han ocurrido otros hechos significativos de carácter financiero o de otra índole que afecten la situación patrimonial y financiera o los resultados de la Sociedad.
B19: Nota 8 – Limitación a la libre disponibilidad de los activos o del patrimonio y cualquier restricción al derecho de propiedad.
B21: La empresa no cuenta con ningún tipo de limitación a libre disposición de los activos o de patrimonio, tampoco existe restricciones al derecho de la propiedad.
B24: Nota 9 – Cambios Contables
B26: No se incurrió a ningún cambio en el procedimiento en la aplicación contable y/o estimación contable en referencia a los estados contables anteriores al presente.
... B40: Los montos expuestos de las cuentas de orden como parte de la información de los estados contables corresponden a: -Títulos de Capital y Cupones de Intereses de Certificados de Depósitos de Ahorro, Acciones y Pagarés. Estos valores se encuentran resguardados en la caja fuerte de una entidad bancaria. -Forward por Dólares Americanos 1.700.000 con el Banco Itaú Paraguay S.A. con fecha inicio 01/06/2022 y fin 30/06/2022 a un tipo de cambio final de Gs 6.884,00 cada USD 1

Sheet 08
A1: Índice
B2: ANEXO I
B3: CADIEM CASA DE BOLSA S.A.
B4: Cartera de Inversiones al 30/06/2022 comparativo al 31/12/2021
B6: EMISOR | C6: TIPO DE TÍTULO | D6: VALOR NOMINAL UNITARIO | E6: VALOR CONTABLE
B7: Inversiones Temporarias
B8: AUTOMOTORES Y MAQUINARIA S.A.E.C.A. | C8: Bono | D8: 1000000 | E8: 9080442
B9: BIOTEC DEL PARAGUAY S.A. | C9: Bono | D9: 1000000 | E9: 32289353
B10: ELECTROBAN S.A.E.C.A. | C10: Bono | D10: 1000000 | E10: 174586935
B11: GRUPO VAZQUEZ S.A.E. | C11: Bono | D11: 1000000 | E11: 12003540
B12: IZAGUIRRE BARRAIL INVERSORA S.A.E.C.A. | C12: Bono | D12: 1000000 | E12: 1015001
B13: LCR S.A.E.C.A. | C13: Bono | D13: 1000000 | E13: 6121156
B14: FINANCIERA PARAGUAYO | C14: Bono | D14: 1000000 | E14: 7101528
B15: FINANCIERA PARAGUAYO JAPONESA S.A.E.C.A. | C15: BONOS | D15: 1000000 | E15: 1686074456
B16: TELEFONICA CELULAR DEL PARAGUAY S.A.E. | C16: BONOS | D16: 1000000 | E16: 896492124
B17: TELEFONICA CELULAR DEL PARAGUAY S.A.E. | C17: BONOS | D17: 1000000 | E17: 2243857200
B18: Electroban S.A.E.C.A. | C18: ACCIONES | D18: 500000 | E18: 6017832
B19: Electroban S.A.E.C.A. | C19: ACCIONES | D19: 500000 | E19: 14041608
... B46: TERRENOS | C46: Titulo | D46: 6498793452 | E46: 6498793452
B47: SUB TOTAL GS | E47: =SUM(E8:E46) -> 4.2257608e+10
B48: GRUPO VAZQUEZ S.A.E. | C48: Bono | D48: 1000 | E48: 239043.14
B49: ALEMÁN PARAGUAYO CANADIENSE S.A. (ALPACASA) | C49: BONOS | D49: 1000 | E49: 4041.04
B50: ALEMÁN PARAGUAYO CANADIENSE S.A. (ALPACASA) | C50: BONOS | D50: 1000 | E50: 70805.7
B51: GRUPO VAZQUEZ S.A.E. | C51: BONOS | D51: 1000 | E51: 85015.3
B52: GRUPO VAZQUEZ S.A.E. | C52: BONOS | D52: 1000 | E52: 43008.17
B53: GRUPO VAZQUEZ S.A.E. | C53: BONOS | D53: 1000 | E53: 4000.84
B54: GRUPO VAZQUEZ S.A.E. | C54: BONOS | D54: 1000 | E54: 739000.9
B55: GRUPO VAZQUEZ S.A.E. | C55: BONOS | D55: 1000 | E55: 199624.04
B56: ALPACA | C56: Bono | D56: 1000 | E56: 284147.66
B57: BANCO BASA | C57: Bono | D57: 1000 | E57: 8080.56
B58: FINANCIERA FINEXPAR | C58: Bono | D58: 1000 | E58: 2032.76
B59: SUDAMERIS BANK | C59: Bono | D59: 1000 | E59: 6015.54
... B62: DEUDA PRIVADA | C62: Pagaré | D62: 28852.4 | E62: 28852.4
B63: SUB TOTAL USD | E63: =SUM(E48:E62) -> 2249824.4
B64: TIPO DE CAMBIO | E64: 6837.9
B65: SUB TOTAL EN GS | E65: =+E63*E64 -> 1.5384074e+10
B66: TOTAL AL 30/06/2022 | E66: =+E47+E65 -> 5.7641683e+10
B67: TOTAL AL 31/12/2021 | E67: 68383543164
B69: Inversiones Permanentes
B70: B.V.P.A. S.A. | C70: Acciones Ordinarias | D70: 200000000 | E70: 900000000
...

Sheet 09
A1: Índice
B2: ANEXO II
B3: CADIEM CASA DE BOLSA S.A.
B4: Cuadro de Bienes de Uso al 30 de junio del 2022
B5: (En Guaraníes)
B6: R U B R O | C6: VALORES ORIGINALES | H6: DEPRECIACIONES | M6: NETO RESULTANTE
C7: Valores al inicio | D7: Altas | E7: Bajas | F7: Revalúo del Periódo | G7: Valores al Cierre | H7: Acumuladas al inicio | I7: Altas | J7: Bajas | K7: Depreciación del Periódo | L7: Acumuladas al Cierre
B8: Muebles y Útiles | C8: 585448940 | D8: 28141397 | E8: 0 | F8: 0 | G8: 613590337 | H8: -188815641 | I8: 0 | J8: 0 | K8: -23246449 | L8: -212062090 | M8: 401528247
B9: Equipos de Oficina | C9: 354230724 | D9: 10366363 | E9: 0 | F9: 0 | G9: 364597087 | H9: -122114132 | I9: 0 | J9: 0 | K9: -14009646 | L9: -136123778 | M9: 228473309
B10: Equipos de Informática | C10: 514613954 | D10: 118664531 | E10: 0 | F10: 0 | G10: 633278485 | H10: -329720599 | I10: 0 | J10: 0 | K10: -38693234 | L10: -368413833 | M10: 264864652
B11: Instalaciones | C11: 1188239967 | D11: 0 | E11: 0 | F11: 0 | G11: 1188239967 | H11: -417012097 | I11: 0 | J11: 0 | K11: -39571692 | L11: -456583789 | M11: 731656178
B12: Mejoras en Predio Ajeno | C12: 632966446 | D12: 12182953 | E12: 0 | F12: 0 | G12: 645149399 | H12: -521441048 | I12: 0 | J12: 0 | K12: -44438035 | L12: -565879083 | M12: 79270316
B13: Maquinarias y Equipos | C13: 26735570 | D13: 0 | E13: 0 | F13: 0 | G13: 26735570 | H13: -17349559 | K13: -920195 | L13: -18269754 | M13: 8465816
B14: TOTAL 30/06/2022 | C14: 3302235601 | D14: 169355244 | E14: 0 | F14: 0 | G14: 3471590845 | H14: -1596453076 | I14: 0 | J14: 0 | K14: -160879251 | L14: -1757332327 | M14: 1714258518
B15: TOTAL 31/12/2021 | C15: 3139342808 | D15: 237931290 | E15: 75038497 | F15: 0 | G15: 3302235601 | H15: -1307951376 | I15: 0 | J15: 0 | K15: -1596453076 | L15: -1489721472 | M15: 1705782525

Sheet 10
A1: Índice
B2: ANEXO III
B3: CADIEM CASA DE BOLSA S.A.
B4: Cuadro de Intangibles por al 30 de junio del 2022
B5: (En Guaraníes)
B6: R U B R O | C6: VALORES ORIGINALES | H6: DEPRECIACIONES | M6: NETO RESULTANTE
C7: Valores al inicio | D7: Altas | E7: Bajas | F7: Revalúo del Periódo | G7: Valores al Cierre | H7: Acumuladas al inicio | I7: Altas | J7: Bajas | K7: Depreciación del Periódo | L7: Acumuladas al Cierre
B8: Bienes de uso e intangible
B9: Licencia | C9: 743437575 | D9: 86025618 | E9: 0 | F9: 0 | G9: 829463193 | H9: -332805349 | I9: 0 | J9: 0 | K9: -62008287 | L9: -394813636 | M9: 434649557
B10: TOTAL 30/06/2022 | C10: 743437575 | D10: 86025618 | E10: 0 | F10: 0 | G10: 829463193 | H10: -332805349 | I10: 0 | J10: 0 | K10: -62008287 | L10: -394813636 | M10: 434649557
B11: TOTAL 31/12/2021 | C11: 593462108 | D11: 149975467 | E11: 0 | F11: 0 | G11: 743437575 | H11: -142882171 | I11: 0 | J11: 0 | K11: -189923178 | L11: -332805349 | M11: 410632226
